BEGIN:VCALENDAR
VERSION:2.0
PRODID:-//Volunteer Connect York Region - ECPv4.8.2//NONSGML v1.0//EN
CALSCALE:GREGORIAN
METHOD:PUBLISH
X-WR-CALNAME:Volunteer Connect York Region
X-ORIGINAL-URL:https://volunteerconnect.ca
X-WR-CALDESC:Events for Volunteer Connect York Region
BEGIN:VEVENT
DTSTART;TZID=America/Toronto:20211204T140000
DTEND;TZID=America/Toronto:20211204T150000
DTSTAMP:20260424T004138
CREATED:20211115T213132Z
LAST-MODIFIED:20211115T213132Z
UID:5471-1638626400-1638630000@volunteerconnect.ca
SUMMARY:Youth Career Exploration & Preparation in Technology and Law
DESCRIPTION:Learn from young professionals about careers in Technology and Law. Learn about the journey these two speakers took to achieve their career goals\, the decisions they made\, and their future career paths. \n
URL:https://volunteerconnect.ca/event/youth-career-exploration-preparation-in-technology-and-law/
LOCATION:Zoom Online
CATEGORIES:Educational events,Events,Informational events
ATTACH;FMTTYPE=image/jpeg:https://volunteerconnect.ca/wp-content/uploads/2021/11/Webinar-Digital-Flyer-1536x1536.jpg
ORGANIZER;CN="The%20Cross-Cultural%20Community%20Services%20Association%20%28TCCSA%29":MAILTO:yrr@tccsa.org
END:VEVENT
END:VCALENDAR