BEGIN:VCALENDAR
VERSION:2.0
PRODID:-//Volunteer Connect York Region - ECPv4.8.2//NONSGML v1.0//EN
CALSCALE:GREGORIAN
METHOD:PUBLISH
X-WR-CALNAME:Volunteer Connect York Region
X-ORIGINAL-URL:https://volunteerconnect.ca
X-WR-CALDESC:Events for Volunteer Connect York Region
BEGIN:VEVENT
DTSTART;TZID=America/Toronto:20211130T130000
DTEND;TZID=America/Toronto:20211130T140000
DTSTAMP:20260424T085222
CREATED:20211129T140534Z
LAST-MODIFIED:20211129T140534Z
UID:5591-1638277200-1638280800@volunteerconnect.ca
SUMMARY:York Region Food Network:  Grow Your Own Mushrooms
DESCRIPTION: \n
URL:https://volunteerconnect.ca/event/york-region-food-network-grow-your-own-mushrooms/
LOCATION:York Region Food Network\, 350 Industrial Parkway South\, Aurora\, Ontario\, L4G 3V7 
ORGANIZER;CN="York%20Region%20Food%20Network":MAILTO:4moreinfo@yrfn.ca
END:VEVENT
END:VCALENDAR