BEGIN:VCALENDAR
VERSION:2.0
PRODID:-//Volunteer Connect York Region - ECPv4.8.2//NONSGML v1.0//EN
CALSCALE:GREGORIAN
METHOD:PUBLISH
X-WR-CALNAME:Volunteer Connect York Region
X-ORIGINAL-URL:https://volunteerconnect.ca
X-WR-CALDESC:Events for Volunteer Connect York Region
BEGIN:VEVENT
DTSTART;TZID=America/Toronto:20231016T153000
DTEND;TZID=America/Toronto:20231016T170000
DTSTAMP:20260425T115019
CREATED:20231011T222933Z
LAST-MODIFIED:20231011T222933Z
UID:13196-1697470200-1697475600@volunteerconnect.ca
SUMMARY:York Region Food Network : Food and Belonging. It's Harvest Season
DESCRIPTION:Food and Belonging is a workshop series for all ages\, where we talk about food\, taste what we make\, and share about our cultures. When you join us\, expect to: Practice new skills Try new foods Connect with your community \n
URL:https://volunteerconnect.ca/event/york-region-food-network-food-and-belonging-its-harvest-season/
ORGANIZER;CN="York%20Region%20Food%20Network":MAILTO:4moreinfo@yrfn.ca
END:VEVENT
END:VCALENDAR