BEGIN:VCALENDAR
VERSION:2.0
PRODID:-//Volunteer Connect York Region - ECPv4.8.2//NONSGML v1.0//EN
CALSCALE:GREGORIAN
METHOD:PUBLISH
X-WR-CALNAME:Volunteer Connect York Region
X-ORIGINAL-URL:https://volunteerconnect.ca
X-WR-CALDESC:Events for Volunteer Connect York Region
BEGIN:VEVENT
DTSTART;TZID=America/Toronto:20211130T090000
DTEND;TZID=America/Toronto:20211130T100000
DTSTAMP:20260424T082134
CREATED:20211129T140341Z
LAST-MODIFIED:20211129T140341Z
UID:5586-1638262800-1638266400@volunteerconnect.ca
SUMMARY:York Region Food Network:  Community Breakfast
DESCRIPTION:Community Breakfast\n\nNovember 30 @ 9:00 am – 10:00 am\n\n\n\n\nWe’re serving it hot and fresh from 9:00-10:00 a.m. \nTakeaway only. \n\n\n\n\n\n\n\nWe’re serving it hot and fresh from 9:00-10:00 a.m. Takeaway only. \n\n\n\n\n+ GOOGLE CALENDAR+ ICAL EXPORT\n\n\nDetails\n\nDate:\nNovember 30\nTime:\n\n9:00 am – 10:00 am\n\n\n\n\nOrganizer\n\nYork Region Food Network\nPhone:\n905-841-3101\nEmail:\n4moreinfo@yrfn.ca\nWebsite:\nwww.yrfn.ca\n\n\n\n\n\nVenue\n\nYork Region Food Network\n\n350 Industrial Parkway South\nAurora\, ON L4G 3V7 Canada + Google Map\n\nPhone:\n905-841-3101\nWebsite:\nwww.yrfn.ca\n\n\n\n\n\njAdditional Events: \nGrow your own mushrooms with bo del valle garcia\nDate – Nov 30 @ 1pm – 2pm \nGood food box pick up\nDate – Dec 1 @ 12pm – 6pm \nCommunity Breakfast\nDate – Dec 7 @ 9am – 10am \n
URL:https://volunteerconnect.ca/event/york-region-food-network-community-breakfast/
LOCATION:York Region Food Network\, 350 Industrial Parkway South\, Aurora\, Ontario\, L4G 3V7 
ORGANIZER;CN="York%20Region%20Food%20Network":MAILTO:4moreinfo@yrfn.ca
END:VEVENT
END:VCALENDAR