BEGIN:VCALENDAR
VERSION:2.0
PRODID:-//Volunteer Connect York Region - ECPv4.8.2//NONSGML v1.0//EN
CALSCALE:GREGORIAN
METHOD:PUBLISH
X-WR-CALNAME:Volunteer Connect York Region
X-ORIGINAL-URL:https://volunteerconnect.ca
X-WR-CALDESC:Events for Volunteer Connect York Region
BEGIN:VEVENT
DTSTART;TZID=America/Toronto:20230329T130000
DTEND;TZID=America/Toronto:20230329T140000
DTSTAMP:20260424T125729
CREATED:20230329T165549Z
LAST-MODIFIED:20230329T165549Z
UID:12200-1680094800-1680098400@volunteerconnect.ca
SUMMARY:Yoga is Every Body: Virtual Yoga with Chloe
DESCRIPTION:Join WSN and Yoga Teacher Chloë on March 29 & April 5 at 1 – 2PM for Yoga is for Every Body. Chloë believes that yoga is for every body\, every ability level\, every body type and teaches through the lens of accessibility and non-performative yoga.  \nRegister at the Eventbrite link: https://www.eventbrite.ca/e/yoga-is-for-every-body-with-chloe-in-person-tickets-530641582257?aff=ebdsoporgprofile \n
URL:https://volunteerconnect.ca/event/yoga-is-every-body-virtual-yoga-with-chloe/2023-03-29/
LOCATION:Virtual
ATTACH;FMTTYPE=image/jpeg:https://volunteerconnect.ca/wp-content/uploads/2023/03/Screenshot-2023-03-29-125402.jpg
ORGANIZER;CN="Women%20Support%20Network%20of%20York%20Region":MAILTO:info@womenssupportnetwork.ca
END:VEVENT
END:VCALENDAR