BEGIN:VCALENDAR
VERSION:2.0
PRODID:-//Volunteer Connect York Region - ECPv4.8.2//NONSGML v1.0//EN
CALSCALE:GREGORIAN
METHOD:PUBLISH
X-WR-CALNAME:Volunteer Connect York Region
X-ORIGINAL-URL:https://volunteerconnect.ca
X-WR-CALDESC:Events for Volunteer Connect York Region
BEGIN:VEVENT
DTSTART;TZID=America/Toronto:20220826T150000
DTEND;TZID=America/Toronto:20220826T160000
DTSTAMP:20260423T201112
CREATED:20220624T190136Z
LAST-MODIFIED:20220624T190136Z
UID:6233-1661526000-1661529600@volunteerconnect.ca
SUMMARY:YCC: Gamer's Corner
DESCRIPTION:TCCSA’s Youth Connections Committee (YCC) is hosting its last event of the season! Join us virtually to participate in various games such as jeopardy\, gartic.io\, and guess the song! We will also have a raffle and many more activities. For more information\, please contact acheng@tccsa.org with the subject line “YCC Gamer’s Corner”. We hope to see you there! \n
URL:https://volunteerconnect.ca/event/ycc-gamers-corner/
LOCATION:Zoom Online
CATEGORIES:Events,Public events,Volunteering events
ATTACH;FMTTYPE=image/png:https://volunteerconnect.ca/wp-content/uploads/2022/06/dzsd.png
ORGANIZER;CN="The%20Cross-Cultural%20Community%20Services%20Association%20%28TCCSA%29":MAILTO:yrr@tccsa.org
END:VEVENT
END:VCALENDAR