BEGIN:VCALENDAR
VERSION:2.0
PRODID:-//Volunteer Connect York Region - ECPv4.8.2//NONSGML v1.0//EN
CALSCALE:GREGORIAN
METHOD:PUBLISH
X-WR-CALNAME:Volunteer Connect York Region
X-ORIGINAL-URL:https://volunteerconnect.ca
X-WR-CALDESC:Events for Volunteer Connect York Region
BEGIN:VEVENT
DTSTART;TZID=America/Toronto:20210424T150000
DTEND;TZID=America/Toronto:20210424T160000
DTSTAMP:20260426T030025
CREATED:20210419T180836Z
LAST-MODIFIED:20210419T180836Z
UID:3750-1619276400-1619280000@volunteerconnect.ca
SUMMARY:X.Ray Virtual Magic Show - Real or Not
DESCRIPTION:The Markham Cat Adoption & Education Centre is partnering with award-winning magician X.Ray to present his brand new show “Virtual Magic – Real or Not” to raise funds for animals in need with 50% of the proceeds being donated back to animals. \nJoin us for a a visual feast of mind-blowing virtual entertainment\, combining sleight-of-hand magic\, mind-reading mentalism\, clean humour and theatrical showmanship that will guarantee to WOW you! \nTwo shows are available.\nFriday April 23rd 2021 8:00pm\nSaturday April 24th 2021 3:00pm\nTickets are $25.00 per screen. \nPurchase tickets through https://ontariospca.ca/who-we-are/events/virtual-magic-show/ \nThe event organizer is providing tickets for this event via an external ticket provider. Please click the link below to obtain tickets. \n
URL:https://volunteerconnect.ca/event/x-ray-virtual-magic-show-real-or-not/
LOCATION:Libellengasse 35\, Sattelbach\, 2532\, Burkina Faso
END:VEVENT
END:VCALENDAR