BEGIN:VCALENDAR
VERSION:2.0
PRODID:-//Volunteer Connect York Region - ECPv4.8.2//NONSGML v1.0//EN
CALSCALE:GREGORIAN
METHOD:PUBLISH
X-WR-CALNAME:Volunteer Connect York Region
X-ORIGINAL-URL:https://volunteerconnect.ca
X-WR-CALDESC:Events for Volunteer Connect York Region
BEGIN:VEVENT
DTSTART;TZID=America/Toronto:20240131T183000
DTEND;TZID=America/Toronto:20240131T200000
DTSTAMP:20260424T135417
CREATED:20240117T162014Z
LAST-MODIFIED:20240117T162014Z
UID:13997-1706725800-1706731200@volunteerconnect.ca
SUMMARY:Writer's Corner Workshop
DESCRIPTION:Patricia Keeny will discuss her journey as a writer and the role theatre has played in her creative work. \n**This program is for adults. \nPriority will be given to confirmed RHPL card holders. \nProgram location: Central Branch\, Room A \nProgram Dates: Jan. 31 / 6:30-8 p.m. \nOn February 28\, drop by the library (no registration needed) to write and get advice from others in a welcoming and informal writer’s circle. \n
URL:https://volunteerconnect.ca/event/writers-corner-workshop/
LOCATION:Richmond Hill Central Library – Meeting Room A/B 1 Atkinson Street  Richmond Hill\, ON L4C 5J1
END:VEVENT
END:VCALENDAR