BEGIN:VCALENDAR
VERSION:2.0
PRODID:-//Volunteer Connect York Region - ECPv4.8.2//NONSGML v1.0//EN
CALSCALE:GREGORIAN
METHOD:PUBLISH
X-WR-CALNAME:Volunteer Connect York Region
X-ORIGINAL-URL:https://volunteerconnect.ca
X-WR-CALDESC:Events for Volunteer Connect York Region
BEGIN:VEVENT
DTSTART;TZID=America/Toronto:20230201T173000
DTEND;TZID=America/Toronto:20230201T203000
DTSTAMP:20260419T121532
CREATED:20230130T184552Z
LAST-MODIFIED:20230130T184552Z
UID:11533-1675272600-1675283400@volunteerconnect.ca
SUMMARY:Wise Women Expressive Art Circle- WSN York Region
DESCRIPTION:Are you looking to explore your healing through art? Join us at our Wise Women Expressive Art Circle – Series 7: Coping & Addictions! The virtual program runs at 5:30 – 8:30PM on Feb 1\, 8\, 15 & 22. Register at the Eventbrite link: \nhttps://www.eventbrite.ca/e/wise-women-expressive-art-circle-series-7-coping-addictions-tickets-518991295937?aff=ebdsoporgprofile \nSurvivors’ experiences of these challenging times have increased for women. Life is filled with challenges\, interpersonal conflict\, physical and emotional pain\, loss\, and stress. It does not matter who you are – no one goes through life unscathed. Regardless of your past – your life “story” up until now – what matters most is how you cope. All of us learn various “coping mechanisms” as children. For example\, as a young child you may have clung to a favorite blanket or sucked your thumb to comfort yourself when you were scared. As you got a little older\, you may have used humor to deflect or hide emotional pain or acted out when you wanted attention from your workaholic parents. You took a healthier route and channeled angry or painful feelings into physical activity\, tearing up the asphalt as a sprinter or slamming tennis balls in vigorous games with a teammate. We will be exploring the diverse ways we have learned coping styles that are healthy and/or not-so-healthy. Addictions as a form of coping with life traumas will be analyzed\, join us in the Circle. \nFebruary 1st Introduction to Coping Strategies \nFebruary 8th Dealing with Depression \nFebruary 15th Expressing Guilt & Shame \nFebruary 22nd Celebration/Closure \n
URL:https://volunteerconnect.ca/event/wise-women-expressive-art-circle-wsn-york-region/2023-02-01/
LOCATION:Virtual
ATTACH;FMTTYPE=image/jpeg:https://volunteerconnect.ca/wp-content/uploads/2023/01/Screenshot-2023-01-30-134518.jpg
ORGANIZER;CN="Women%20Support%20Network%20of%20York%20Region":MAILTO:info@womenssupportnetwork.ca
END:VEVENT
END:VCALENDAR