BEGIN:VCALENDAR
VERSION:2.0
PRODID:-//Volunteer Connect York Region - ECPv4.8.2//NONSGML v1.0//EN
CALSCALE:GREGORIAN
METHOD:PUBLISH
X-WR-CALNAME:Volunteer Connect York Region
X-ORIGINAL-URL:https://volunteerconnect.ca
X-WR-CALDESC:Events for Volunteer Connect York Region
BEGIN:VEVENT
DTSTART;TZID=America/Toronto:20240406T200000
DTEND;TZID=America/Toronto:20240406T210000
DTSTAMP:20260425T130325
CREATED:20240401T201128Z
LAST-MODIFIED:20240401T201128Z
UID:14435-1712433600-1712437200@volunteerconnect.ca
SUMMARY:WIND SYMPHONIES
DESCRIPTION:The KSO presents a concert with pieces by Stravinsky and Hindmith featuring emerging pianist Henry From. under the baton of maestro Kristian Alexander. \nStravinsky’s Symphonies of Wind Instruments uses rhythmic\, harmonic\, and melodic devices reminiscent of The Rite of Spring\, but is orchestrated for only wind instruments\, and uses the plural form—Symphonies—not to denote the piece’s formal construction\, but rather to invoke the broader term meaning ‘to sound together.’  \nHenry From then brings to life the same composer’s Concerto for Piano and Winds—a neo-Romantic work with unusual performing forces\, since concerti were typically for a solo instrument and orchestra.  \nIn Paul Hindemith’s Konzertmusik the piano\, harps\, and winds appear to be odds with one another\, with the former playing in a highly chromatic\, atonal idiom\, and the latter in a more melodic vein. \nTickets: KSOrchestra.ca | (905) 604-8339 \n
URL:https://volunteerconnect.ca/event/wind-symphonies/
LOCATION:Rehearsal Hall at Cornell Community Centre\, 3201 Bur Oak\, Markham\, Ontario\, L6B 0T2\, Canada
ATTACH;FMTTYPE=image/jpeg:https://volunteerconnect.ca/wp-content/uploads/2024/04/KSO-April-6-2024-concert-poster.jpg
ORGANIZER;CN="Kindred%20Spirits%20Orchestra":MAILTO:info@KSOrchestra.ca
END:VEVENT
END:VCALENDAR