BEGIN:VCALENDAR
VERSION:2.0
PRODID:-//Volunteer Connect York Region - ECPv4.8.2//NONSGML v1.0//EN
CALSCALE:GREGORIAN
METHOD:PUBLISH
X-WR-CALNAME:Volunteer Connect York Region
X-ORIGINAL-URL:https://volunteerconnect.ca
X-WR-CALDESC:Events for Volunteer Connect York Region
BEGIN:VEVENT
DTSTART;TZID=America/Toronto:20210921T120000
DTEND;TZID=America/Toronto:20210921T130000
DTSTAMP:20260425T170829
CREATED:20210901T164320Z
LAST-MODIFIED:20210901T164320Z
UID:4978-1632225600-1632229200@volunteerconnect.ca
SUMMARY:Volunteer Canada Annual General Meeting
DESCRIPTION:\n\n\nVolunteer Canada AGM / AGA de Bénévoles Canada\n\n\nAnnual General Meeting\nVolunteer Canada is holding its 44th Annual General Meeting (AGM) virtually on Tuesday\, September 21\, 2021.\n12:00PM to 1:00PM EDT\n\nRegister on the link below. \nAssemblée générale annuelle\nBénévoles Canada tiendra sa 44e assemblée générale annuelle (AGA) virtuellement le mardi 21 septembre 2021.\nDe 12h00 à 13h00 (HNE) \n\nTime \n\nSep 21\, 2021 12:00 PM in Eastern Time (US and Canada) \n\n\n\n\n\n
URL:https://volunteerconnect.ca/event/volunteer-canada-annual-general-meeting/
ORGANIZER;CN="Volunteer%20Canada":MAILTO:membership@volunteercanada.ca
END:VEVENT
END:VCALENDAR