BEGIN:VCALENDAR
VERSION:2.0
PRODID:-//Volunteer Connect York Region - ECPv4.8.2//NONSGML v1.0//EN
CALSCALE:GREGORIAN
METHOD:PUBLISH
X-WR-CALNAME:Volunteer Connect York Region
X-ORIGINAL-URL:https://volunteerconnect.ca
X-WR-CALDESC:Events for Volunteer Connect York Region
BEGIN:VEVENT
DTSTART;TZID=America/Toronto:20211231T200000
DTEND;TZID=America/Toronto:20211231T210000
DTSTAMP:20260424T020654
CREATED:20211209T133032Z
LAST-MODIFIED:20211209T133032Z
UID:5697-1640980800-1640984400@volunteerconnect.ca
SUMMARY:Virtual First Night - New Year's Eve in Richmond Hill
DESCRIPTION:Join us for an one-hour show hosted by multi award-winning Canadian filmmaker and Richmond Hill resident\, Sean Cisterna. The evening features a curated list of popular holiday and winter show tunes performed by Electric Moon Theatre Company; a dynamic LED performance with Dr. Draw and the Silver Starlets; an exclusive interview with TikTok star and social media influencer Alessya Farrugia; and a finale performance by NOA\, one of Pop’s and R&B’s rising talents. We will also be celebrating our newest Community Recognition Certificate recipients! \nVisit Richmondhill.ca often for more information\, festive recipe ideas and activities to help you and your family ring in the new year. \nDate and Time\nDecember 31\, from 8 – 9 p.m. \nEvent Details\nSchedule of Events\nHere’s a glance at the evening program. It promises to be a night of great music\, incredible entertainment and fun for spectators of all ages. \n\n\n\n\n\n\nTime\nActivity\n\n\n8 p.m.\nIntroduction and Program Overview\n\n\n8:05 p.m.\nSpecial Greetings from the Acting Mayor\, Members of Council and Dignitaries\n\n\n8:10 p.m.\nElectric Moon Theatre Company\n\n\n8:30 p.m.\nSpin Starlets: Presents Spin Twins featuring Dr. Draw\n\n\n8:45 p.m.\nInterview with Social Media Influencer\, Alessya Farrugia\n\n\n8:50 p.m.\nCountdown to 2022 and Fireworks Finale with NOA\n\n\n9 p.m.\nHappy New Year Richmond Hill!\n\n\n\n* Performance time and entertainment are subject to change.  Call the number below for further questions and/or hit the link to stay updated on event details. \n\nEvent Coordinator\n225 East Beaver Creek\, Richmond Hill\, ON L4B 3P4 \n\n\nT. 905-771-5508\nEmail Richmond Hill events\nMap this Location \n\n
URL:https://volunteerconnect.ca/event/virtual-first-night-new-years-eve-in-richmond-hill/
END:VEVENT
END:VCALENDAR