BEGIN:VCALENDAR
VERSION:2.0
PRODID:-//Volunteer Connect York Region - ECPv4.8.2//NONSGML v1.0//EN
CALSCALE:GREGORIAN
METHOD:PUBLISH
X-WR-CALNAME:Volunteer Connect York Region
X-ORIGINAL-URL:https://volunteerconnect.ca
X-WR-CALDESC:Events for Volunteer Connect York Region
BEGIN:VEVENT
DTSTART;TZID=America/Toronto:20210508T100000
DTEND;TZID=America/Toronto:20210508T120000
DTSTAMP:20260426T042553
CREATED:20210428T171743Z
LAST-MODIFIED:20210428T171743Z
UID:4081-1620468000-1620475200@volunteerconnect.ca
SUMMARY:Understand the Health Care System in Ontario
DESCRIPTION:Topics include:\n– How to find a doctor?\n– Where is the closest hospital?\n– How to find a Specialist? \nCheck out this and other programs offered at 105Gibson Centre \nRegister:  https://105gibson.com/online-registration/ \nEmail:  info@105Gibson.com \n
URL:https://volunteerconnect.ca/event/understand-the-health-care-system-in-ontario/
LOCATION:ZOOM\, Canada
ORGANIZER;CN="105%20Gibson%20Centre":MAILTO:info@105Gibson.com
END:VEVENT
END:VCALENDAR