BEGIN:VCALENDAR
VERSION:2.0
PRODID:-//Volunteer Connect York Region - ECPv4.8.2//NONSGML v1.0//EN
CALSCALE:GREGORIAN
METHOD:PUBLISH
X-WR-CALNAME:Volunteer Connect York Region
X-ORIGINAL-URL:https://volunteerconnect.ca
X-WR-CALDESC:Events for Volunteer Connect York Region
BEGIN:VEVENT
DTSTART;TZID=America/Toronto:20230315T190000
DTEND;TZID=America/Toronto:20230315T200000
DTSTAMP:20260420T073325
CREATED:20230310T010425Z
LAST-MODIFIED:20230310T010425Z
UID:12029-1678906800-1678910400@volunteerconnect.ca
SUMMARY:Traditional Indian music\, musical instruments\, and Singing
DESCRIPTION:Learn about traditional Indian music\, musical instruments\, and different singing types/styles. Gauri Guha\, a vocalist in the Indian classical khayal style\, will be leading this program. She is classically trained and has a Bachelor of Music and an M.A. degree in Bengali Literature. She has performed world wide and loves to educate others on the wide variety of music Indian has. \nLearn more about her here: http://www.vmacch.ca/beta/gaur… \nwww.gauriguha.net \nRegistrants will receive a confirmation email upon registration\, 24 hours prior to the program\, registrants will receive an email with the event link. \nIf you do not receive the Zoom link prior the program: \nPlease note: \nThe email will be from “Markham Public Library” \nIt may be in your junk/spam folder. \nIf you still cannot find the email\, please contact us prior to the program start time so we can send you the link again @ mplcommunitylibrarians@markham.library.on.ca** \n
URL:https://volunteerconnect.ca/event/traditional-indian-music-musical-instruments-and-singing/
END:VEVENT
END:VCALENDAR