BEGIN:VCALENDAR
VERSION:2.0
PRODID:-//Volunteer Connect York Region - ECPv4.8.2//NONSGML v1.0//EN
CALSCALE:GREGORIAN
METHOD:PUBLISH
X-WR-CALNAME:Volunteer Connect York Region
X-ORIGINAL-URL:https://volunteerconnect.ca
X-WR-CALDESC:Events for Volunteer Connect York Region
BEGIN:VEVENT
DTSTART;TZID=America/Toronto:20191222T110000
DTEND;TZID=America/Toronto:20191222T160000
DTSTAMP:20260424T034011
CREATED:20191125T160232Z
LAST-MODIFIED:20191125T160232Z
UID:1991-1577012400-1577030400@volunteerconnect.ca
SUMMARY:Toronto Card Show
DESCRIPTION:Toronto’s sports card and memorabilia show with the highest standard of vendors buying\, selling and trading from across Ontario. \nThe Toronto Card Show is the most popular and successful show in the GTA since 2006. \n
URL:https://volunteerconnect.ca/event/toronto-card-show/
LOCATION:Thornhill Community Centre\, 7755 Bayview Avenue\, Thornhill\, ON\, L3T 4P1\, Canada
CATEGORIES:Fair
ORGANIZER;CN="Toronto%20Card%20Show":MAILTO:frank@torontocardshow.com
END:VEVENT
END:VCALENDAR