BEGIN:VCALENDAR
VERSION:2.0
PRODID:-//Volunteer Connect York Region - ECPv4.8.2//NONSGML v1.0//EN
CALSCALE:GREGORIAN
METHOD:PUBLISH
X-WR-CALNAME:Volunteer Connect York Region
X-ORIGINAL-URL:https://volunteerconnect.ca
X-WR-CALDESC:Events for Volunteer Connect York Region
BEGIN:VEVENT
DTSTART;TZID=America/Toronto:20210529T103000
DTEND;TZID=America/Toronto:20210529T120000
DTSTAMP:20260425T231500
CREATED:20210519T145224Z
LAST-MODIFIED:20210519T145224Z
UID:4253-1622284200-1622289600@volunteerconnect.ca
SUMMARY:The Career Pathway Series for University and College Students and Graduates in the New Normal
DESCRIPTION:\n\n\n\n\n\n\nThe Career Pathway Series for University and College\nStudents and Graduates in the New Normal\n\n\n\n\n\n\n\n\n\n\n\n\n\n\nThe Career Pathway Series is designed for university and college students and graduates to build community and interact with HR specialists and professionals on their job search needs during the new normal. Interactive workshops\, young job seekers community and one-on-one clinic are offered. \nSpaces are limited\, so please register in advance.\n\n\n\n\n\n\n\n \n
URL:https://volunteerconnect.ca/event/the-career-pathway-series-for-university-and-college-students-and-graduates-in-the-new-normal/2021-05-29/
ORGANIZER;CN="105%20Gibson%20Centre":MAILTO:info@105Gibson.com
END:VEVENT
END:VCALENDAR