BEGIN:VCALENDAR
VERSION:2.0
PRODID:-//Volunteer Connect York Region - ECPv4.8.2//NONSGML v1.0//EN
CALSCALE:GREGORIAN
METHOD:PUBLISH
X-WR-CALNAME:Volunteer Connect York Region
X-ORIGINAL-URL:https://volunteerconnect.ca
X-WR-CALDESC:Events for Volunteer Connect York Region
BEGIN:VEVENT
DTSTART;TZID=America/Toronto:20210416T000000
DTEND;TZID=America/Toronto:20210416T234500
DTSTAMP:20260426T004000
CREATED:20210419T181456Z
LAST-MODIFIED:20210419T181456Z
UID:3716-1618531200-1618616700@volunteerconnect.ca
SUMMARY:The Art Guild of Scarborough’s Annual Spring Show and Sale 2021 - VIRTUAL
DESCRIPTION:The Art Guild of Scarborough is very excited to be holding its Annual Spring Show and Sale from April 1 to May 31\, 2021 virtually at agsartsale.com. Whether you are looking for an original piece of art for your home\, office\, a gift for a special someone or just to celebrate spring – there’s something for everyone. \nThe Art Guild of Scarborough\, a non-profit organization\, was established in 1962 bringing together artists from across the GTA to promote and celebrate the creation of original art. The Art Guild holds weekly member meetings featuring demonstrations from notable artists\, lectures\, and exhibitions. During Covid-19 restrictions\, we have continued to virtually feature weekly demonstrators from across Canada and organized sketch and critique events for our members. Our artists have continued to create original art in a variety of media including watercolour\, pastel\, oil\, acrylics\, ink\, sculpture and mixed media. \nThrough our shows and sales\, the Art Guild of Scarborough provides a venue to bring together those who love art and our members who create and present their artwork. This show is one of our customary three Art Shows: the Fall and Spring Shows at the Centennial Community Centre and the Arthur Show in June at the Cedar Ridge Gallery. \nCelebrating 59 years of fine art!\nFor more information\, please visit http://agsartsale.com\nhttps://www.facebook.com/theartguildofscarborough/ \n
URL:https://volunteerconnect.ca/event/the-art-guild-of-scarboroughs-annual-spring-show-and-sale-2021-virtual/
LOCATION:AZ
END:VEVENT
END:VCALENDAR