BEGIN:VCALENDAR
VERSION:2.0
PRODID:-//Volunteer Connect York Region - ECPv4.8.2//NONSGML v1.0//EN
CALSCALE:GREGORIAN
METHOD:PUBLISH
X-WR-CALNAME:Volunteer Connect York Region
X-ORIGINAL-URL:https://volunteerconnect.ca
X-WR-CALDESC:Events for Volunteer Connect York Region
BEGIN:VEVENT
DTSTART;TZID=America/Toronto:20200112T140000
DTEND;TZID=America/Toronto:20200112T170000
DTSTAMP:20260424T052237
CREATED:20200107T161805Z
LAST-MODIFIED:20200107T161805Z
UID:2202-1578837600-1578848400@volunteerconnect.ca
SUMMARY:Thaith Thiruvizha
DESCRIPTION:Tamil Cultural and Heritage Celebration\n\nSunday\, January 12\, 2020 at 2 p.m.\nat FLATO Markham Theatre\n171 Town Centre Boulevard\n
URL:https://volunteerconnect.ca/event/thaith-thiruvizha/
LOCATION:Flato Markham Theatre\, 171 Town Centre Blvd\, Markham\, Ontario\, Canada
END:VEVENT
END:VCALENDAR