BEGIN:VCALENDAR
VERSION:2.0
PRODID:-//Volunteer Connect York Region - ECPv4.8.2//NONSGML v1.0//EN
CALSCALE:GREGORIAN
METHOD:PUBLISH
X-WR-CALNAME:Volunteer Connect York Region
X-ORIGINAL-URL:https://volunteerconnect.ca
X-WR-CALDESC:Events for Volunteer Connect York Region
BEGIN:VEVENT
DTSTART;TZID=America/Toronto:20240215T200000
DTEND;TZID=America/Toronto:20240215T200000
DTSTAMP:20260424T065202
CREATED:20240213T232653Z
LAST-MODIFIED:20240213T232653Z
UID:14210-1708027200-1708027200@volunteerconnect.ca
SUMMARY:Take Part in Black History Month in Richmond Hill(Musical Performances)
DESCRIPTION:he Richmond Hill Centre for the Performing Arts presents an array of black musical talent in recognition of Black History Month. For tickets\, visit RHCentre.ca.\nAfricville Stories: This is the story of Canada’s oldest black community\, Africville\, which was destroyed for ’urban improvement’ in the 1960s. Within the tragedy of this event comes stories of the people of this community shared through song\, narration and music spanning jazz\, R&B and gospel.  \n
URL:https://volunteerconnect.ca/event/take-part-in-black-history-month-in-richmond-hillmusical-performances/
LOCATION:City of Richmond Hill\, 225 East Beaver Creek Road\, Richmond Hill\, ontario\, L4B 3P4\, Canada
CATEGORIES:Educational events,Events,Public events
END:VEVENT
END:VCALENDAR