BEGIN:VCALENDAR
VERSION:2.0
PRODID:-//Volunteer Connect York Region - ECPv4.8.2//NONSGML v1.0//EN
CALSCALE:GREGORIAN
METHOD:PUBLISH
X-WR-CALNAME:Volunteer Connect York Region
X-ORIGINAL-URL:https://volunteerconnect.ca
X-WR-CALDESC:Events for Volunteer Connect York Region
BEGIN:VEVENT
DTSTART;TZID=America/Toronto:20240227T140000
DTEND;TZID=America/Toronto:20240227T153000
DTSTAMP:20260423T230552
CREATED:20240226T142107Z
LAST-MODIFIED:20240226T142107Z
UID:14268-1709042400-1709047800@volunteerconnect.ca
SUMMARY:Storytelling
DESCRIPTION:Explore the power of self-expression through storytelling. Connect with like-minded individuals\, share your unique voice\, and foster meaningful conversations. Unleash your creativity and join us for a vibrant and supportive community of art and social connection. Let’s dance\, paint\, and tell our stories together! \nLocation: Richmond Hill Welcome Centre \nhttps://maps.app.goo.gl/kqKWHvxozgpXmEYo6 \n
URL:https://volunteerconnect.ca/event/storytelling/
LOCATION:CCSYR\, 21 Dunlop St\, Unit # 101\, Richmond Hill\, ON\, L4C 2M6\, Canada
CATEGORIES:Events,Public events
END:VEVENT
END:VCALENDAR