BEGIN:VCALENDAR
VERSION:2.0
PRODID:-//Volunteer Connect York Region - ECPv4.8.2//NONSGML v1.0//EN
CALSCALE:GREGORIAN
METHOD:PUBLISH
X-WR-CALNAME:Volunteer Connect York Region
X-ORIGINAL-URL:https://volunteerconnect.ca
X-WR-CALDESC:Events for Volunteer Connect York Region
BEGIN:VEVENT
DTSTART;TZID=America/Toronto:20190915T090000
DTEND;TZID=America/Toronto:20190915T140000
DTSTAMP:20260424T071657
CREATED:20190911T150442Z
LAST-MODIFIED:20190911T150559Z
UID:1525-1568538000-1568556000@volunteerconnect.ca
SUMMARY:Stiver Mill Farmers' Market
DESCRIPTION:Sundays from 9am – 2pm until October 6th!  Fresh produce.  Baked Goods\, Honey\, Meat\, Cheese\, Market Grill\, Special Events…and more! \n
URL:https://volunteerconnect.ca/event/stiver-mill-farmers-market/2019-09-15/
LOCATION:Stiver Mill\, Unionville\, 9 Station Lane\,\, Unionville\, Ontario\, Canada
END:VEVENT
END:VCALENDAR