BEGIN:VCALENDAR
VERSION:2.0
PRODID:-//Volunteer Connect York Region - ECPv4.8.2//NONSGML v1.0//EN
CALSCALE:GREGORIAN
METHOD:PUBLISH
X-WR-CALNAME:Volunteer Connect York Region
X-ORIGINAL-URL:https://volunteerconnect.ca
X-WR-CALDESC:Events for Volunteer Connect York Region
BEGIN:VEVENT
DTSTART;TZID=America/Toronto:20250621T090000
DTEND;TZID=America/Toronto:20250621T160000
DTSTAMP:20260423T215236
CREATED:20250402T182701Z
LAST-MODIFIED:20250602T174608Z
UID:15639-1750496400-1750521600@volunteerconnect.ca
SUMMARY:Steering for Steer Friends Automotive Festival
DESCRIPTION:Rev your engines for a cause! The Steering for Steer Friends Automotive Festival returns for its fifth year\, uniting car enthusiasts and the community in support of Steer Friends\, a charity dedicated to individuals with disabilities. This exciting fundraising event features a premium indoor showcase\, free outdoor show car parking\, live entertainment\, kids zone\, industry vendors\, food trucks\, prizes\, awards\, cash raffles\, and a stunning display of exotic\, modified\, classic\, and vintage cars\, plus motorcycles. \nAll proceeds benefit the Steer Friends Capital Building Fund\, helping create a fully inclusive facility for individuals with disabilities and complex care needs. \nJoin us for a day of horsepower and heart as we drive change together! \nMore Info & Registration: www.steerfriends.org/carshow \n
URL:https://volunteerconnect.ca/event/steering-for-steer-friends-automotive-festival/
LOCATION:Markham Fairgrounds\, 10801 McCowan Road\, Markham\, Ontario\, L3P 3J3\, Canada
CATEGORIES:Events,Fundraising events,Public events
ATTACH;FMTTYPE=image/png:https://volunteerconnect.ca/wp-content/uploads/2025/04/Final-2.png
END:VEVENT
END:VCALENDAR