BEGIN:VCALENDAR
VERSION:2.0
PRODID:-//Volunteer Connect York Region - ECPv4.8.2//NONSGML v1.0//EN
CALSCALE:GREGORIAN
METHOD:PUBLISH
X-WR-CALNAME:Volunteer Connect York Region
X-ORIGINAL-URL:https://volunteerconnect.ca
X-WR-CALDESC:Events for Volunteer Connect York Region
BEGIN:VEVENT
DTSTART;TZID=America/Toronto:20191102T090000
DTEND;TZID=America/Toronto:20191102T140000
DTSTAMP:20260424T094406
CREATED:20191028T135355Z
LAST-MODIFIED:20191028T135413Z
UID:1814-1572685200-1572703200@volunteerconnect.ca
SUMMARY:St. Andrew's Presbyterian Church Christmas Bazaar
DESCRIPTION:Get ready for Christmas and attend St. Andrew’s Christmas Bazaar.  Something for everyone\, quilting\, crafts\, ‘new to you’\, baked goods and so much more! \n
URL:https://volunteerconnect.ca/event/st-andrews-presbyterian-church-christmas-bazaar/
LOCATION:St. Andrew’s Presbyterian Church\, 143 Main St. N.\,\, Markham ON\,\, Ontario\, L3P 1Y2\, Canada
END:VEVENT
END:VCALENDAR