BEGIN:VCALENDAR
VERSION:2.0
PRODID:-//Volunteer Connect York Region - ECPv4.8.2//NONSGML v1.0//EN
CALSCALE:GREGORIAN
METHOD:PUBLISH
X-WR-CALNAME:Volunteer Connect York Region
X-ORIGINAL-URL:https://volunteerconnect.ca
X-WR-CALDESC:Events for Volunteer Connect York Region
BEGIN:VEVENT
DTSTART;TZID=America/Toronto:20210407T100000
DTEND;TZID=America/Toronto:20210407T110000
DTSTAMP:20260425T114632
CREATED:20210324T150226Z
LAST-MODIFIED:20210324T150226Z
UID:3500-1617789600-1617793200@volunteerconnect.ca
SUMMARY:Spring Forward Resume Series: Resume Renovation
DESCRIPTION:Spring Forward Resume Series: Resume Renovation\n\n\n\n\n\n\n\n\n\n\n\n\nDay/Time  April 7\, 2021 from 10:00am to 11:00am\n\n\nLocation\n\n\nTo register for this free webinar visit: www.jobskills.orgVirtualhttps://www.jobskills.org/upcoming-events/workshops/\, ON\n\n\n\n\n
URL:https://volunteerconnect.ca/event/spring-forward-resume-series-resume-renovation/
END:VEVENT
END:VCALENDAR