BEGIN:VCALENDAR
VERSION:2.0
PRODID:-//Volunteer Connect York Region - ECPv4.8.2//NONSGML v1.0//EN
CALSCALE:GREGORIAN
METHOD:PUBLISH
X-WR-CALNAME:Volunteer Connect York Region
X-ORIGINAL-URL:https://volunteerconnect.ca
X-WR-CALDESC:Events for Volunteer Connect York Region
BEGIN:VEVENT
DTSTART;TZID=America/Toronto:20221031T160000
DTEND;TZID=America/Toronto:20221031T180000
DTSTAMP:20260423T215036
CREATED:20221031T164505Z
LAST-MODIFIED:20221031T164505Z
UID:7167-1667232000-1667239200@volunteerconnect.ca
SUMMARY:Spooktacular Stories in Vaughan
DESCRIPTION:Stop by your local library for some hauntingly spooktacular stories and activities as they get in the mood for Halloween! \nPierre Burton Resource Library\nAddress: 4921 Rutherford Road\, Vaughan\, ON L4L 1A6\nDate: Monday October 31st\nTime: 4pm – 6pm \n
URL:https://volunteerconnect.ca/event/spooktacular-stories-in-vaughan/
LOCATION:Pierre Burton Resource\, 4921 Rutherford Road\, vaughan\, ontario\, L4L 1A6\, Canada
END:VEVENT
END:VCALENDAR