BEGIN:VCALENDAR
VERSION:2.0
PRODID:-//Volunteer Connect York Region - ECPv4.8.2//NONSGML v1.0//EN
CALSCALE:GREGORIAN
METHOD:PUBLISH
X-WR-CALNAME:Volunteer Connect York Region
X-ORIGINAL-URL:https://volunteerconnect.ca
X-WR-CALDESC:Events for Volunteer Connect York Region
BEGIN:VEVENT
DTSTART;TZID=America/Toronto:20210410T180000
DTEND;TZID=America/Toronto:20210410T203000
DTSTAMP:20260425T184703
CREATED:20210402T150420Z
LAST-MODIFIED:20210402T150420Z
UID:3574-1618077600-1618086600@volunteerconnect.ca
SUMMARY:Sounds of Praise 2021
DESCRIPTION:Sounds Of Praise 2021 \nIt’s that time of the year.\nJoin in this Free Annual Worship Experience.\nA sincere and heartfelt praise that earns you a joyful living.\nGet excited\, plan on attending.\nThough we are not together in-person\, it is VIRTUALLY the same \nYouTube.com/theredemptionhouse \nFacebook.com/TRH.thehouse \nTime: 6pm \nBe a part of our joyful community! \n
URL:https://volunteerconnect.ca/event/sounds-of-praise-2021/
END:VEVENT
END:VCALENDAR