BEGIN:VCALENDAR
VERSION:2.0
PRODID:-//Volunteer Connect York Region - ECPv4.8.2//NONSGML v1.0//EN
CALSCALE:GREGORIAN
METHOD:PUBLISH
X-WR-CALNAME:Volunteer Connect York Region
X-ORIGINAL-URL:https://volunteerconnect.ca
X-WR-CALDESC:Events for Volunteer Connect York Region
BEGIN:VEVENT
DTSTART;TZID=America/Toronto:20191115T200000
DTEND;TZID=America/Toronto:20191115T220000
DTSTAMP:20260424T034007
CREATED:20191028T153719Z
LAST-MODIFIED:20191028T153719Z
UID:1874-1573848000-1573855200@volunteerconnect.ca
SUMMARY:SINATRA WITH MATT DUSK
DESCRIPTION:As one of Canada’s most beloved male vocalists\, “Matt Dusk impressively brings Las Vegas back to the glory days as the standards-singer sounds remarkably like Rat Packer Frank Sinatra” (Billboard). \n
URL:https://volunteerconnect.ca/event/sinatra-with-matt-dusk/
LOCATION:Flato Markham Theatre\, 101 Town Centre Blvd.\, Markham\, Ontario\, L3R9W3
END:VEVENT
END:VCALENDAR