BEGIN:VCALENDAR
VERSION:2.0
PRODID:-//Volunteer Connect York Region - ECPv4.8.2//NONSGML v1.0//EN
CALSCALE:GREGORIAN
METHOD:PUBLISH
X-WR-CALNAME:Volunteer Connect York Region
X-ORIGINAL-URL:https://volunteerconnect.ca
X-WR-CALDESC:Events for Volunteer Connect York Region
BEGIN:VEVENT
DTSTART;TZID=America/Toronto:20210408T080000
DTEND;TZID=America/Toronto:20210408T170000
DTSTAMP:20260425T143532
CREATED:20210412T184356Z
LAST-MODIFIED:20210412T184356Z
UID:3648-1617868800-1617901200@volunteerconnect.ca
SUMMARY:SeeWhatSheCanDo Women & Dogs Circle: Dog Grooming at Home
DESCRIPTION:Join fellow dog lovers in this interactive experience with a professional groomer from Muttz With Mannerz. Get pro tips on how to to safely beautify and groom your dog from home. \nThis is a virtual meeting. To register for this free event\, select the number of tickets required and follow the instructions. The video meeting link will be emailed out to all participants in advance. \n
URL:https://volunteerconnect.ca/event/seewhatshecando-women-dogs-circle-dog-grooming-at-home/
ORGANIZER;CN="seewhatshecando":MAILTO:mark@seewhatshecando.com
END:VEVENT
END:VCALENDAR