BEGIN:VCALENDAR
VERSION:2.0
PRODID:-//Volunteer Connect York Region - ECPv4.8.2//NONSGML v1.0//EN
CALSCALE:GREGORIAN
METHOD:PUBLISH
X-WR-CALNAME:Volunteer Connect York Region
X-ORIGINAL-URL:https://volunteerconnect.ca
X-WR-CALDESC:Events for Volunteer Connect York Region
BEGIN:VEVENT
DTSTART;TZID=America/Toronto:20210418T193000
DTEND;TZID=America/Toronto:20210418T203000
DTSTAMP:20260426T020248
CREATED:20210413T142417Z
LAST-MODIFIED:20210413T142417Z
UID:3635-1618774200-1618777800@volunteerconnect.ca
SUMMARY:SeeWhatSheCanDo Women Coaches Circle: Virtual Meet & Greet
DESCRIPTION:Please join us in this inaugural Women Coaches Circle event and meet other women who share your passion for leadership and coaching. This first experience will have the opportunity to get to know other coaches\, discuss the vision for the circle and future events. \nThis is a virtual event hosted by Erin Hamilton from the Town of Aurora and the SeeWhatSheCanDo team. To register for this free event\, click on the link below\,  select the number of tickets you need and follow the instructions. The online video meeting link will be emailed to all participants prior to the event. \nAdditional Details\nContact:Mark Wiley\nPhone:4167102654\nWebsite:www.seewhatshecando.com/events/30408\nContact Email: mark@seewhatshecando.com \n
URL:https://volunteerconnect.ca/event/seewhatshecando-women-coaches-circle-virtual-meet-greet/
END:VEVENT
END:VCALENDAR