BEGIN:VCALENDAR
VERSION:2.0
PRODID:-//Volunteer Connect York Region - ECPv4.8.2//NONSGML v1.0//EN
CALSCALE:GREGORIAN
METHOD:PUBLISH
X-WR-CALNAME:Volunteer Connect York Region
X-ORIGINAL-URL:https://volunteerconnect.ca
X-WR-CALDESC:Events for Volunteer Connect York Region
BEGIN:VEVENT
DTSTART;TZID=America/Toronto:20190921T120000
DTEND;TZID=America/Toronto:20190921T130000
DTSTAMP:20260424T141511
CREATED:20190918T164256Z
LAST-MODIFIED:20190918T165126Z
UID:1633-1569067200-1569070800@volunteerconnect.ca
SUMMARY:Rouge River Trail and Suspension Bridge Opening
DESCRIPTION:The City of Markham invites you to the official opening of the Rouge Valley Trail and Bridge over Milne Dam. \nThe Rouge River Suspension Bridge can be accessed at the end of Princess Street or at the end of Milne Lane and Riverview Road in Markham Village. \n
URL:https://volunteerconnect.ca/event/rouge-river-trail-and-suspension-bridge-opening/
LOCATION:Rouge Valley Trail\, Markham\, Ontario\, Canada
CATEGORIES:Events
END:VEVENT
END:VCALENDAR