BEGIN:VCALENDAR
VERSION:2.0
PRODID:-//Volunteer Connect York Region - ECPv4.8.2//NONSGML v1.0//EN
CALSCALE:GREGORIAN
METHOD:PUBLISH
X-WR-CALNAME:Volunteer Connect York Region
X-ORIGINAL-URL:https://volunteerconnect.ca
X-WR-CALDESC:Events for Volunteer Connect York Region
BEGIN:VEVENT
DTSTART;TZID=America/Toronto:20210327T170000
DTEND;TZID=America/Toronto:20210327T210000
DTSTAMP:20260425T144433
CREATED:20210324T144633Z
LAST-MODIFIED:20210324T144633Z
UID:3494-1616864400-1616878800@volunteerconnect.ca
SUMMARY:ONLINE SPRING FEST: CELEBRATING CANADA'S MULTICULTURALISM
DESCRIPTION:Saturday Mar 27 : 5PM to 9PM \nFREE ADMISSION FOR EVERYONE\nONLINE Spring Fest: Celebrating Canada’s Multiculturalism is another step towards eliminating discrimination\, racism\, and prejudice in Ontario\, Canada\, and the world. It is indeed festivals and events such as these that are beneficial in promoting multiculturalism and unity. \nThis Festival encourages positive interaction between cultural\, moral\, and ethnic communities and promotes the expression of multiple identities to increase participants’ sense of belonging and attachment to Canada. We’ll be highlighting the incredible talent of various local artists from a variety of artistic and cultural backgrounds. \nFREE ADMISSION FOR EVERYONE\nTo participate:\n– Upload your best photo to Facebook/Instagram or both.\n– Please tag & check-in Moksha Canada Foundation.\n– Use the hashtag #MokshaCanada in your post.\nPhotos with maximum likes and comments will be the Winner. \n
URL:https://volunteerconnect.ca/event/online-spring-fest-celebrating-canadas-multiculturalism/
END:VEVENT
END:VCALENDAR