BEGIN:VCALENDAR
VERSION:2.0
PRODID:-//Volunteer Connect York Region - ECPv4.8.2//NONSGML v1.0//EN
CALSCALE:GREGORIAN
METHOD:PUBLISH
X-WR-CALNAME:Volunteer Connect York Region
X-ORIGINAL-URL:https://volunteerconnect.ca
X-WR-CALDESC:Events for Volunteer Connect York Region
BEGIN:VEVENT
DTSTART;TZID=America/Toronto:20211205T110000
DTEND;TZID=America/Toronto:20211205T170000
DTSTAMP:20260424T033731
CREATED:20211129T140913Z
LAST-MODIFIED:20211129T140913Z
UID:5582-1638702000-1638723600@volunteerconnect.ca
SUMMARY:Old Fashion Christmas Event - Volunteers Needed
DESCRIPTION:Assist us in our Christmas event! We are holding a vendors market in our hall in addition to horse and carriage rides\, kids arts & crafts\, a scavenger hunt\, and serving hot drinks. We are also collecting food donations for the food pantry as entrance to the event.\nWe need volunteers to assist us with collection of food\, and supervision of the kid’s crafts in the Temple.\nFor more information please visit: https://old-fashioned-christmas-100429.square.site/ \n
URL:https://volunteerconnect.ca/event/old-fashion-christmas-event-volunteers-needed/
LOCATION:18974 Leslie street\, Sharon ON\, Canada\, 18974 Leslie street\, Sharon ON\, Canada\, York Region\, Ontario\, Canada
END:VEVENT
END:VCALENDAR