BEGIN:VCALENDAR
VERSION:2.0
PRODID:-//Volunteer Connect York Region - ECPv4.8.2//NONSGML v1.0//EN
CALSCALE:GREGORIAN
METHOD:PUBLISH
X-WR-CALNAME:Volunteer Connect York Region
X-ORIGINAL-URL:https://volunteerconnect.ca
X-WR-CALDESC:Events for Volunteer Connect York Region
BEGIN:VEVENT
DTSTART;TZID=America/Toronto:20220728T190000
DTEND;TZID=America/Toronto:20220728T200000
DTSTAMP:20260420T011535
CREATED:20220726T133949Z
LAST-MODIFIED:20220726T133949Z
UID:6336-1659034800-1659038400@volunteerconnect.ca
SUMMARY:Night at the Museum Summer Event Series
DESCRIPTION:The Museum is happy to announce our Night at the Museum summer event series! \nEvery Thursday night from July 28 to Sept 1\, we will be hosting an outdoor movie or a mini concert FREE for the whole family to enjoy. Bring a blanket\, lawn chairs and some friends and join us for a Night at the Museum! \nPlease see the website for starting times\, as they vary between 7:00PM and 8:00PM. \n
URL:https://volunteerconnect.ca/event/night-at-the-museum-summer-event-series/2022-07-28/
LOCATION:Markham Museum\, 9350 Markham Road \, Markham\, Ontario\, Canada
END:VEVENT
END:VCALENDAR