BEGIN:VCALENDAR
VERSION:2.0
PRODID:-//Volunteer Connect York Region - ECPv4.8.2//NONSGML v1.0//EN
CALSCALE:GREGORIAN
METHOD:PUBLISH
X-WR-CALNAME:Volunteer Connect York Region
X-ORIGINAL-URL:https://volunteerconnect.ca
X-WR-CALDESC:Events for Volunteer Connect York Region
BEGIN:VEVENT
DTSTART;TZID=America/Toronto:20230625T130000
DTEND;TZID=America/Toronto:20230625T150000
DTSTAMP:20260421T121126
CREATED:20230620T212309Z
LAST-MODIFIED:20230620T212309Z
UID:12757-1687698000-1687705200@volunteerconnect.ca
SUMMARY:Multicultural Day Festival
DESCRIPTION:Everyone is Welcome! \n
URL:https://volunteerconnect.ca/event/multicultural-day-festival/
LOCATION:150N rivermede road
END:VEVENT
END:VCALENDAR