BEGIN:VCALENDAR
VERSION:2.0
PRODID:-//Volunteer Connect York Region - ECPv4.8.2//NONSGML v1.0//EN
CALSCALE:GREGORIAN
METHOD:PUBLISH
X-WR-CALNAME:Volunteer Connect York Region
X-ORIGINAL-URL:https://volunteerconnect.ca
X-WR-CALDESC:Events for Volunteer Connect York Region
BEGIN:VEVENT
DTSTART;TZID=America/Toronto:20210401T093000
DTEND;TZID=America/Toronto:20210401T113000
DTSTAMP:20260419T133123
CREATED:20210324T153858Z
LAST-MODIFIED:20210324T153858Z
UID:3471-1617269400-1617276600@volunteerconnect.ca
SUMMARY:MSBC & Markham Arts Council: CRA Tax Info Session - Sole Proprietorship and Partnership Tax
DESCRIPTION:Seminar Title: CRA Info Session for Sole Proprietors and Partnerships \nImportant: This webinar will ONLY talk about Sole Proprietorship and Partnership Tax. \nFor CRA Tax Info Session for Incorporated Businesses\, register here. \nIf you have small business tax-related questions\, here is your chance to get them answered! \nOur seminars are held by CRA professionals and will help you learn about: \n\nBusiness tax deductions\nCommon tax errors\nHelpful tools and services offered by the CRA\nGeneral bookkeeping concepts and best practices\n\nWebinar link will be sent to you via e-mail within 24 hours of the event. If you register after 24 hours and do not receive the link as of 2 hours prior\, please contact msbc@markham.ca \n
URL:https://volunteerconnect.ca/event/msbc-markham-arts-council-cra-tax-info-session-sole-proprietorship-and-partnership-tax/
END:VEVENT
END:VCALENDAR