BEGIN:VCALENDAR
VERSION:2.0
PRODID:-//Volunteer Connect York Region - ECPv4.8.2//NONSGML v1.0//EN
CALSCALE:GREGORIAN
METHOD:PUBLISH
X-WR-CALNAME:Volunteer Connect York Region
X-ORIGINAL-URL:https://volunteerconnect.ca
X-WR-CALDESC:Events for Volunteer Connect York Region
BEGIN:VEVENT
DTSTART;TZID=America/Toronto:20210428T130000
DTEND;TZID=America/Toronto:20210428T140000
DTSTAMP:20260426T030118
CREATED:20210419T181831Z
LAST-MODIFIED:20210419T181831Z
UID:3711-1619614800-1619618400@volunteerconnect.ca
SUMMARY:MOSAIC’S KNITTING & CROCHET GROUP ON ZOOM
DESCRIPTION:Drop-in to knit\, chat and make new friends virtually on Zoom!\nJoin us for an opportunity to chat\, knit and make new friends. Knitting has been proven to: reduce stress and anxiety\, slows cognitive decline and can help prevent arthritis and tendonitis. \nJoin Mosaic Home Care Services for Zoom Programs Online.\nMosaic Home Care Services & Community Resource Centres\nhave taken some of our programs online during the COVID-19\nPandemic. \nDates: Every Wednesday April 7th to June 30th\, 2021\nTime: 1:00 p.m. to 2:00 p.m. \nTo register for all programs call our offices at 905.597.7000 or\ninfo@mosaichomecare.com or beth@mosaichomecare.com\nif you need more information. A Zoom link for the program\nwill be sent once you have completed the registration. \n
URL:https://volunteerconnect.ca/event/mosaics-knitting-crochet-group-on-zoom/
LOCATION:g3i34w3y6s\, q56t7ymhr0\, nmn3v7iy6z\, 69593
ORGANIZER;CN="Mosaic%20Home%20Care%20%26%20Community%20Resource%20Centres":MAILTO:info@mosaichomecare.com
END:VEVENT
END:VCALENDAR