BEGIN:VCALENDAR
VERSION:2.0
PRODID:-//Volunteer Connect York Region - ECPv4.8.2//NONSGML v1.0//EN
CALSCALE:GREGORIAN
METHOD:PUBLISH
X-WR-CALNAME:Volunteer Connect York Region
X-ORIGINAL-URL:https://volunteerconnect.ca
X-WR-CALDESC:Events for Volunteer Connect York Region
BEGIN:VEVENT
DTSTART;TZID=America/Toronto:20210419T130000
DTEND;TZID=America/Toronto:20210419T140000
DTSTAMP:20260426T033406
CREATED:20210412T183636Z
LAST-MODIFIED:20210412T183636Z
UID:3658-1618837200-1618840800@volunteerconnect.ca
SUMMARY:Mosaic Presents: Community Café
DESCRIPTION:Join Mosaic for an afternoon of ideas\, fun\, connection and social interaction! Our café is\na virtual space for everyone whether you want to sit and listen\, talk and take part or lead\nthe group about your hobbies and interests. There will be activities and events as well as\ndiscussions. Stay engaged\, active and involved in our communities! \nApril\nCreating Space to Align with Our True Essence with Almeiri Santos\nEnjoy learning how to use your own resources to stay grounded and centred\nduring these difficult times.\nMonday April 19th\, 2021 from 1:00 p.m. to 2:00 p.m. \nMay\nStaying Educated During COVID-19 with Jean Raymond Soulorde\nfrom OSSCO\nJoin us to learn how to how to stay educated and informed during COVID-19.\nMonday May 17th\, 2021 from 1:00 p.m. to 2:00 p.m. \nJune\nThe Art of Being Happy with Shukla Datta\nThis workshop decodes the What\, Why and How’s of Happiness in an interactive\nand fun way.\nMonday June 21st\, 2021 from 1:00 p.m. to 2:00 p.m. \nJoin Mosaic Home Care Services for Zoom Programs Online. Mosaic Home Care\nServices & Community Resource Centres have taken some of our programs online\nduring the COVID-19 Pandemic.\nTo register for all programs call our offices at 905.597.7000 or info@mosaichomecare.com\nor beth@mosaichomecare.com if you need more information. A Zoom link for the\nprogram will be sent once you have completed the registration. \nAdditional Details\nContact:Mosaic Home Care and Community Resource Centres\nPhone:9055977000\nWebsite:www.mosaichomecare.com\nContact Email: info@mosaichomecare.com \n
URL:https://volunteerconnect.ca/event/mosaic-presents-community-cafe-2/
END:VEVENT
END:VCALENDAR