BEGIN:VCALENDAR
VERSION:2.0
PRODID:-//Volunteer Connect York Region - ECPv4.8.2//NONSGML v1.0//EN
CALSCALE:GREGORIAN
METHOD:PUBLISH
X-WR-CALNAME:Volunteer Connect York Region
X-ORIGINAL-URL:https://volunteerconnect.ca
X-WR-CALDESC:Events for Volunteer Connect York Region
BEGIN:VEVENT
DTSTART;TZID=America/Toronto:20210331T130000
DTEND;TZID=America/Toronto:20210331T140000
DTSTAMP:20260425T102050
CREATED:20210324T145237Z
LAST-MODIFIED:20210324T145237Z
UID:3498-1617195600-1617199200@volunteerconnect.ca
SUMMARY:Mosaic Home Care Knitting & Crochet Group on Zoom
DESCRIPTION:Mosaic Home Care Knitting & Crochet Group on Zoom\n\n\n\nDay/TimeMarch 31\, 2021 from 1:00pm to 2:00pm\n\n\n\nLocation  Zoom\n\nDrop-in to knit\, chat and make new friends virtually on Zoom!Knitting has been proven to: reduce stress and anxiety\, slows cognitive decline and can help prevent arthritis and tendonitisDates: Every Wednesday afternoon starting on Wednesday January 6th\, 2021 to Wednesday March 31st\, 2021.Time: 1:00 p.m. to 2:00 p.m.Registration requiredJoin Mosaic Home Care Services for Zoom Programs Online. Mosaic Home Care Services & Community Resource Centres have taken some of our programs online during COVID-19 Pandemic.To register for all programs call our offices at 905-597.7000 or info@mosaichomecare.com or beth@mosaichomecare.com if you need more information. A Zoom link for the program will be sent once you have completed the registration. \n\n\nContact:\nMosaic Home Care\n\n\nPhone:\n905-597-7000\n\n\nWebsite:\nwww.mosaichomecare.com/events/\n\n\nContact Email:\ninfo@mosaichomecare.com\n\n
URL:https://volunteerconnect.ca/event/mosaic-home-care-knitting-crochet-group-on-zoom/
END:VEVENT
END:VCALENDAR