BEGIN:VCALENDAR
VERSION:2.0
PRODID:-//Volunteer Connect York Region - ECPv4.8.2//NONSGML v1.0//EN
CALSCALE:GREGORIAN
METHOD:PUBLISH
X-WR-CALNAME:Volunteer Connect York Region
X-ORIGINAL-URL:https://volunteerconnect.ca
X-WR-CALDESC:Events for Volunteer Connect York Region
BEGIN:VEVENT
DTSTART;TZID=America/Toronto:20250123T110000
DTEND;TZID=America/Toronto:20250123T123000
DTSTAMP:20260424T024650
CREATED:20250116T175737Z
LAST-MODIFIED:20250116T175737Z
UID:15468-1737630000-1737635400@volunteerconnect.ca
SUMMARY:Mommy Movement: Revitasize Sip n' Stroll
DESCRIPTION:Come join @thesweatmovement for a fun-filled event at Revitasize – Natural Juice Kitchen! Get ready to sip on delicious lattes while strolling around with fellow mommies. This is the perfect opportunity to socialize\, relax\, and get some movement in. Don’t miss out on this chance to revitalize and connect with other moms in the community. \nMeet your Sip n’ Stroll Leader\nChloe Alleyne (@thesweatmovement) \nChloe Alleyne is the resident fitness + wellness expert on CTV’s The Social. As a certified personal trainer and pre + postnatal fitness specialist\, she empowers busy moms and women to embrace fitness as a way of life. Her signature Mommy Movement classes empowers moms to move and strengthen their body in a safe and inclusive environment where babies are welcome! And when she’s not raising our heart rates\, she’s raising the next generation\, her 4-year old daughter and 1-year old son. \n
URL:https://volunteerconnect.ca/event/mommy-movement-revitasize-sip-n-stroll/
LOCATION:Revitasize – Certified Natural Kitchen  8570 Woodbine Avenue #Unit D-2 Markham\, ON L3R 4X8
END:VEVENT
END:VCALENDAR