BEGIN:VCALENDAR
VERSION:2.0
PRODID:-//Volunteer Connect York Region - ECPv4.8.2//NONSGML v1.0//EN
CALSCALE:GREGORIAN
METHOD:PUBLISH
X-WR-CALNAME:Volunteer Connect York Region
X-ORIGINAL-URL:https://volunteerconnect.ca
X-WR-CALDESC:Events for Volunteer Connect York Region
BEGIN:VEVENT
DTSTART;TZID=America/Toronto:20211128T160000
DTEND;TZID=America/Toronto:20211128T170000
DTSTAMP:20260424T140253
CREATED:20211123T155605Z
LAST-MODIFIED:20211123T155605Z
UID:5530-1638115200-1638118800@volunteerconnect.ca
SUMMARY:Menorah Lighting Ceremony at the Chebad Lubavich Synagogue
DESCRIPTION:Join Don Hamilton\, Councillor Irish and other dignitaries on Saturday November 28th at 4pm for the annual Menorah Lighting Ceremony! \n
URL:https://volunteerconnect.ca/event/menorah-lighting-ceremony-at-the-chebad-lubavich-synagogue/
LOCATION:Chebad Lubavich Synagogue\, 83 Green Lane\, Thornhill\, Ontario\, Canada
END:VEVENT
END:VCALENDAR