BEGIN:VCALENDAR
VERSION:2.0
PRODID:-//Volunteer Connect York Region - ECPv4.8.2//NONSGML v1.0//EN
CALSCALE:GREGORIAN
METHOD:PUBLISH
X-WR-CALNAME:Volunteer Connect York Region
X-ORIGINAL-URL:https://volunteerconnect.ca
X-WR-CALDESC:Events for Volunteer Connect York Region
BEGIN:VEVENT
DTSTART;TZID=America/Toronto:20230612T110000
DTEND;TZID=America/Toronto:20230612T120000
DTSTAMP:20260425T101926
CREATED:20230529T164916Z
LAST-MODIFIED:20230529T164916Z
UID:12579-1686567600-1686571200@volunteerconnect.ca
SUMMARY:Meal Planning on a Budget
DESCRIPTION:Join us for a free virtual seminar!  \n
URL:https://volunteerconnect.ca/event/meal-planning-on-a-budget/
ORGANIZER;CN="womens%20centre%20of%20york%20region":MAILTO:info@wcyr.ca
END:VEVENT
END:VCALENDAR