BEGIN:VCALENDAR
VERSION:2.0
PRODID:-//Volunteer Connect York Region - ECPv4.8.2//NONSGML v1.0//EN
CALSCALE:GREGORIAN
METHOD:PUBLISH
X-WR-CALNAME:Volunteer Connect York Region
X-ORIGINAL-URL:https://volunteerconnect.ca
X-WR-CALDESC:Events for Volunteer Connect York Region
BEGIN:VEVENT
DTSTART;TZID=America/Toronto:20230311T200000
DTEND;TZID=America/Toronto:20230311T220000
DTSTAMP:20260424T143446
CREATED:20230309T160433Z
LAST-MODIFIED:20230309T160433Z
UID:12015-1678564800-1678572000@volunteerconnect.ca
SUMMARY:MATTHIAS THE PAINTER
DESCRIPTION:As a wedding present to the daughter of his most influential teacher\, Stravinsky gifts the speedy fantasy entitled Fireworks – an early work that foreshadows the composer’s impending fame. Taking centre stage is internationally acclaimed pianist Alexander Panizza in performance of the Brahmsian-flavoured Burleske by German composer Richard Strauss\, another young and prophetic piece on this program. In his orchestral suite Mathis der Maler\, Hindemith finds balance between bliss and abomination to depict a musical portrait of a 15th century altarpiece and the life of German painter Matthias Grünewald.  \nKristian Alexander | conductor\nAlexander Panizza | pianist\nDaniel Vnukowski | host \n7:10 p.m.   Prélude: pre-concert recital.\n7:20 p.m.   Pre-concert talk. \nIntermission discussion and Q&A with Alexander Panizza and The Classical 96.3 FM radio personality Daniel Vnukowski. \n
URL:https://volunteerconnect.ca/event/matthias-the-painter/
LOCATION:Flato Markham Theatre\, 171 Town Centre Blvd\, Markham\, Ontario\, Canada
ATTACH;FMTTYPE=image/jpeg:https://volunteerconnect.ca/wp-content/uploads/2023/03/Alexander-Panizza-1.jpg
ORGANIZER;CN="Kindred%20Spirits%20Orchestra":MAILTO:info@KSOrchestra.ca
END:VEVENT
END:VCALENDAR