BEGIN:VCALENDAR
VERSION:2.0
PRODID:-//Volunteer Connect York Region - ECPv4.8.2//NONSGML v1.0//EN
CALSCALE:GREGORIAN
METHOD:PUBLISH
X-WR-CALNAME:Volunteer Connect York Region
X-ORIGINAL-URL:https://volunteerconnect.ca
X-WR-CALDESC:Events for Volunteer Connect York Region
BEGIN:VEVENT
DTSTART;TZID=America/Toronto:20220618T080000
DTEND;TZID=America/Toronto:20220618T230000
DTSTAMP:20260423T232723
CREATED:20220426T142907Z
LAST-MODIFIED:20220607T181408Z
UID:6043-1655539200-1655593200@volunteerconnect.ca
SUMMARY:Markham Village Music Festival - Day 2 (Fri June 18\, 2022)
DESCRIPTION:The Markham Kinsmen started the Markham Village Music Festival in 1978. Back then\, it was simply called the Markham Village Festival. Since music is such a strong component of the Festival\, the name was changed to the Markham Village Music Festival in 2001. \nThe Festival is supported by donations from the Federal Government\, Provincial Government\, the City of Markham\, many local businesses\, as well as corporations and individuals. Extra funds are raised through the rental of craft and food booths. In-kind donations are gratefully received. It truly is a party supported by our community! \n
URL:https://volunteerconnect.ca/event/markham-village-music-festival-day-2-fri-june-18-2022/
LOCATION:Markham Main St. BIA\, 132 Robinson St.\, Markham\, Ontario\, L3P 5H5\, Canada
CATEGORIES:Events,Fair,Public events
ATTACH;FMTTYPE=image/jpeg:https://volunteerconnect.ca/wp-content/uploads/2022/04/IMG_2936-1.jpg
ORGANIZER;CN="Markham%20Village%20Music%20Festival":MAILTO:info@markhamfestival.com
END:VEVENT
END:VCALENDAR