BEGIN:VCALENDAR
VERSION:2.0
PRODID:-//Volunteer Connect York Region - ECPv4.8.2//NONSGML v1.0//EN
CALSCALE:GREGORIAN
METHOD:PUBLISH
X-WR-CALNAME:Volunteer Connect York Region
X-ORIGINAL-URL:https://volunteerconnect.ca
X-WR-CALDESC:Events for Volunteer Connect York Region
BEGIN:VEVENT
DTSTART;TZID=America/Toronto:20220811T080000
DTEND;TZID=America/Toronto:20220811T170000
DTSTAMP:20260420T042428
CREATED:20220812T174924Z
LAST-MODIFIED:20220812T174924Z
UID:6375-1660204800-1660237200@volunteerconnect.ca
SUMMARY:Markham Jazz Festival
DESCRIPTION:Don’t miss our 25th anniversary festival: three days\, three stages\, terrific restaurants and shops to visit along Main Street Unionville and a lineup of stunning new talent and fan favourites! Admission to this festival is FREE – we hope to see you there! \nDates: August 19–21\, 2022\nLocation: Main Street Unionville \n
URL:https://volunteerconnect.ca/event/markham-jazz-festival-3/
END:VEVENT
END:VCALENDAR