BEGIN:VCALENDAR
VERSION:2.0
PRODID:-//Volunteer Connect York Region - ECPv4.8.2//NONSGML v1.0//EN
CALSCALE:GREGORIAN
METHOD:PUBLISH
X-WR-CALNAME:Volunteer Connect York Region
X-ORIGINAL-URL:https://volunteerconnect.ca
X-WR-CALDESC:Events for Volunteer Connect York Region
BEGIN:VEVENT
DTSTART;TZID=America/Toronto:20241115T100000
DTEND;TZID=America/Toronto:20241115T200000
DTSTAMP:20260425T235134
CREATED:20241030T211113Z
LAST-MODIFIED:20241030T211113Z
UID:15272-1731664800-1731700800@volunteerconnect.ca
SUMMARY:Markham Home For the Holidays
DESCRIPTION:Welcome to our beloved annual tradition – the Home for The Holidays event\, now in its 37th year. Situated in the heart of Markham\, this Christmas Market promises an unforgettable holiday shopping experience for all. \nAn Unforgettable Holiday Shopping Experience\nOur market is not just a place to shop – it’s a festive journey. Whether you want to complete your Christmas shopping list\, find that unique handcrafted decoration\, or soak in the joyous atmosphere\, our market has something for everyone. From the smell of freshly baked gingerbread to the twinkling lights reflecting off handmade stained glass pieces\, every corner of our Home For The Holidays show is designed to captivate your senses. \nExclusive Craft Show Selections\nDiscover a myriad of arts and crafts\, each telling its own story: \nHandcrafted jewelry that adds a sparkle to the festive season.\nDelightful scented candles to light up winter nights.\nExquisite stained glass creations\, perfect for gifting.\nChristmas decorations ranging from angels to snowmen\, each adding a touch of magic to your home.\nRemember the range of clothing accessories\, including cozy scarves and hats\, to keep you warm and stylish! \nGourmet Delights: Jams\, Jellies\, Shortbread Cookies & More\nIndulge in a gastronomic journey with our curated selection of gourmet products. From the sweet tanginess of homemade jams and jellies to the rich flavours of maple syrup and honey\, every palate will find its delight. And for those with a sweet tooth\, our cookies and chocolates are a must-try! \nVisiting Us\nLocated in the scenic locale of the Markham Fairgrounds\, our Christmas Market is easily accessible. Need directions or information about parking? [Link to Directions and Parking Information]. As we aim to make your visit smooth and memorable\, do check out our Event Schedule and Ticketing Information. \nShare the Magic \nAre you excited about our event? Spread the word and share the magic of the Original Markham Home for The Holidays event with your friends and family.  \nThe Markham Home for the Holidays is celebrating 37 years this year!\nIt has been a dream of mine for many years to have a show dedicated to Christmas. I am a self-confessed “Christmasaholic.” I love the sparkle\, the sights\, sounds and the wonderful aromas of Christmas. I am like an excited little kid at heart when it comes to Christmas. This year’s show is still the same\, in terms of having\, fabulous\, affordable gifts galore\, but with a lot more Christmas themes\, food ideas\, gift ideas and of course\, Santa himself! \n36th Annual Home for The Holidays event. Get all your Christmas shopping done in one place! Christmas Market in Markham. Shop for Christmas arts\, crafts\, accessories\, decorations\, furnishings\, angels\, snowmen\, stained glass\, jewellery\, soaps\, scented candles\, clothing accessories\, scarves\, hats\, food\, jams\, jellies\, soups\, sauces\, gingerbread\, cookies\, honey\, maple syrup\, and chocolate. \nThe show is a presentation of all I wish for\, at Christmas\, in my home and know\, I am wishing it for you\, too. \nWishing you all the Joy\, Hope\, Magic and The True Spirit of Christmas! \n
URL:https://volunteerconnect.ca/event/markham-home-for-the-holidays-2/2024-11-15/
LOCATION:Markham Fairgrounds\, 10801 McCowan Road\, Markham\, Ontario\, L3P 3J3\, Canada
END:VEVENT
END:VCALENDAR