BEGIN:VCALENDAR
VERSION:2.0
PRODID:-//Volunteer Connect York Region - ECPv4.8.2//NONSGML v1.0//EN
CALSCALE:GREGORIAN
METHOD:PUBLISH
X-WR-CALNAME:Volunteer Connect York Region
X-ORIGINAL-URL:https://volunteerconnect.ca
X-WR-CALDESC:Events for Volunteer Connect York Region
BEGIN:VEVENT
DTSTART;VALUE=DATE:20210930
DTEND;VALUE=DATE:20211004
DTSTAMP:20260425T222831
CREATED:20210921T145127Z
LAST-MODIFIED:20210921T145127Z
UID:5047-1632960000-1633305599@volunteerconnect.ca
SUMMARY:Markham Fair
DESCRIPTION:Markham Fair in a Flash\n\nThe Markham Fair will be a bit different this Fall as they celebrate their 177th year. After missing the 2020 Fair\, the Markham Fair in a Flash will provide a taste of the annual event in a one-way walk through event and will feature farm animals\, agricultural displays\, homecraft competitions\, a farmer’s market\, fair food and more.\n\nMarkham Fair in a Flash will take place from September 30 to October 3 at the Fairgrounds on McCowan. Learn more and purchase your tickets here. Tickets must be purchased online in advance. The capacity will be limited with social distancing in effect. Masks will be required.\n
URL:https://volunteerconnect.ca/event/markham-fair-2/2021-09-30/
LOCATION:Markham Fairgrounds\, 10801 McCowan Road\, Markham\, Ontario\, L3P 3J3\, Canada
END:VEVENT
END:VCALENDAR