BEGIN:VCALENDAR
VERSION:2.0
PRODID:-//Volunteer Connect York Region - ECPv4.8.2//NONSGML v1.0//EN
CALSCALE:GREGORIAN
METHOD:PUBLISH
X-WR-CALNAME:Volunteer Connect York Region
X-ORIGINAL-URL:https://volunteerconnect.ca
X-WR-CALDESC:Events for Volunteer Connect York Region
BEGIN:VEVENT
DTSTART;TZID=America/Toronto:20241116T110000
DTEND;TZID=America/Toronto:20241116T170000
DTSTAMP:20260425T222831
CREATED:20241113T154011Z
LAST-MODIFIED:20241113T154011Z
UID:15343-1731754800-1731776400@volunteerconnect.ca
SUMMARY:Markham Dog Alliance Willow Wonderland
DESCRIPTION:To York Region’s largest dog-friendly & family-friendly holiday market in support of: @ospcayorkregion \, @wsfoodbank_ \, and @markhamfoodbank \nShare this with anyone you know who loves dogs\, markets\, or the holiday season! \n💜🎄🍷 • Willow Wonderland: Holiday Market 2.0 \nSip wine\, shop\, and have fun with friends\, family\, and your pups! \n📍 • Willow Springs Winery @willowspringswinery\n(5572 Bethesda Road\, Stouffville\, Ontario\, Canada)\n🗓️ • Saturday & Sunday\, November 16 & 17\, 2024\n⏰ • 11AM – 5PM\n🎟️ • Free-entry\n🚗 • Free Parking \nWhat to expect:\n🛍️ • Vendor Market (35+ Vendors)\n🍪 • Cookie Decorating Workshop ( @thewhiskedpair )\n🆓 • Giveaway bag to the first 100 people each day who spend over $50+ (pre tax) at a small vendor booth\n🎨 • Holiday Scene mini painting workshops ( @creativegeniusacademy )\n🍷 • 20% off @willowspringswinery wine bottles and gift baskets\n🎅 • Photos with Santa ( @rhu.photography )\n📷 • Act-It-Out Photo Booth ( @nelvindramaacademy )\n🎭 • Face painting ( @nelvindramaacademy )\n🎁 • Gift Wrapping Station with 100% proceeds to charity ( @femcity Markham )\n🎄 • Add your name to our Giving Back Tree with every donation (@homestagingtoronto \, @redbagsmarkham )\n🤤 • Beavertails on Sunday \n💜 • Shoutout to our early sponsors: @woofthenorth \, @trentadue_torres_group \, @crumpsnaturals \, @thestouffvillemarket \, @angusglengolfclub \, @femcity \, @markhamlaw \, @mainstreetvets \, & @purewetwipes ! \nInterested in vendoring\, sponsoring\, or partnering with us? Email us at: howlo@markhamdogalliance.com \n
URL:https://volunteerconnect.ca/event/markham-dog-alliance-willow-wonderland/2024-11-16/
LOCATION:Willow Springs Winery
END:VEVENT
END:VCALENDAR