BEGIN:VCALENDAR
VERSION:2.0
PRODID:-//Volunteer Connect York Region - ECPv4.8.2//NONSGML v1.0//EN
CALSCALE:GREGORIAN
METHOD:PUBLISH
X-WR-CALNAME:Volunteer Connect York Region
X-ORIGINAL-URL:https://volunteerconnect.ca
X-WR-CALDESC:Events for Volunteer Connect York Region
BEGIN:VEVENT
DTSTART;TZID=America/Toronto:20191201T140000
DTEND;TZID=America/Toronto:20191201T160000
DTSTAMP:20260424T022428
CREATED:20191118T191033Z
LAST-MODIFIED:20191118T191033Z
UID:1958-1575208800-1575216000@volunteerconnect.ca
SUMMARY:Markham Concert Band presents A Seasonal Celebration
DESCRIPTION:Attention Music Lovers! \n\nWe’ve got a great playlist of holiday favourites for you\, including Greensleeves and the music from “Home Alone”. You’ll love our Christmas march “Jingle Bells Forever” – the clever synthesis of Stars and Stripes Forever and Jingle Bells. With a few sing-alongs and maybe a Santa Selfie too\, it’ll be a terrific afternoon with Markham Concert Band.\n\nTicket Prices: Adult $26\, Senior/Student $21\, Children (under 12) Free\n\nFor more information on this performance\, please visit the Markham Concert Band website.\n
URL:https://volunteerconnect.ca/event/markham-concert-band-presents-a-seasonal-celebration/
LOCATION:Flato Markham Theatre\, 101 Town Centre Blvd.\, Markham\, Ontario\, L3R9W3
END:VEVENT
END:VCALENDAR