BEGIN:VCALENDAR
VERSION:2.0
PRODID:-//Volunteer Connect York Region - ECPv4.8.2//NONSGML v1.0//EN
CALSCALE:GREGORIAN
METHOD:PUBLISH
X-WR-CALNAME:Volunteer Connect York Region
X-ORIGINAL-URL:https://volunteerconnect.ca
X-WR-CALDESC:Events for Volunteer Connect York Region
BEGIN:VEVENT
DTSTART;TZID=America/Toronto:20211111T070000
DTEND;TZID=America/Toronto:20211111T090000
DTSTAMP:20260426T011800
CREATED:20211102T141207Z
LAST-MODIFIED:20211102T141207Z
UID:5365-1636614000-1636621200@volunteerconnect.ca
SUMMARY:Markham Board of Trade - Members Meeting
DESCRIPTION:\n\nWe’ve Missed You and are pleased to welcome you back to our first In Person Breakfast Networking event of 2021! \nJoin us on Thursday November 11th from 7-9:00am for a morning of networking and a delicious breakfast. Hosted at Angus Glen Golf Club\, take this opportunity to reconnect with your fellow MBT Members. \nCovid-19 safety protocols will be in place to ensure the safety and comfort of guests. These include a reduced guest count\, social distancing\, wearing face masks as well as requiring proof of vaccination.* \nAttendees have a chance to win a bottle of wine! Thanks to BizMetrics for sponsoring the wine draw! \nThis is a Members Only event with a limited capacity of 40 attendees to allow for social distancing and Covid safety protocols. Members\, please log in to your account to access registration. Once our maximum capacity has been reached\, we will start a wait list. Unfortunately\, we cannot accept walk in attendees on event day. \nRefund Policy:  If your plans change and are no longer able to attend\, you may transfer your ticket to another individual in your company. Kindly advise us 48 hours prior to the event to respect our limited capacity. \nEvent Photo Disclaimer: By registering for or attending Markham Board of Trade Events\, you give consent to the MBT to use your image and/or video for its publications\, advertising or other media activities (including the Internet) \nBy registering for a Markham Board of Trade networking event\, we reserve the right to share your contact information with other attendees \n\n\n\n\nSponsors\n\n\n\nAnnual Breakfast Sponsorship\n\nRBC Royal Bank\n\n\n
URL:https://volunteerconnect.ca/event/markham-board-of-trade-members-meeting/
LOCATION:Angus Glen Golf Club\, 10080 Kennedy Road\, Markham\, Ontario\, Canada
END:VEVENT
END:VCALENDAR