BEGIN:VCALENDAR
VERSION:2.0
PRODID:-//Volunteer Connect York Region - ECPv4.8.2//NONSGML v1.0//EN
CALSCALE:GREGORIAN
METHOD:PUBLISH
X-WR-CALNAME:Volunteer Connect York Region
X-ORIGINAL-URL:https://volunteerconnect.ca
X-WR-CALDESC:Events for Volunteer Connect York Region
BEGIN:VEVENT
DTSTART;TZID=America/Toronto:20250124T180000
DTEND;TZID=America/Toronto:20250124T210000
DTSTAMP:20260424T060949
CREATED:20250113T194840Z
LAST-MODIFIED:20250113T194840Z
UID:15432-1737741600-1737752400@volunteerconnect.ca
SUMMARY:Lunar New Year Market and Experience
DESCRIPTION:Hey Fun! Lunar New Year Market\nHey Fun Market is a Lunar New Year gathering full of Asian owned businesses selling art\, snacks\, florals and so much more goodies! \nToronto Marriott Markham \n170 Enterprise Boulevard Markham\, ON L6G 0E6 \n
URL:https://volunteerconnect.ca/event/lunar-new-year-market-and-experience/2025-01-24/
END:VEVENT
END:VCALENDAR